BEGIN:VCALENDAR
VERSION:2.0
PRODID:-//ChamberMaster//Event Calendar 2.0//EN
METHOD:PUBLISH
X-PUBLISHED-TTL:P3D
REFRESH-INTERVAL:P3D
CALSCALE:GREGORIAN
BEGIN:VEVENT
DTSTART:20190809T160000Z
DTEND:20190809T170000Z
X-MICROSOFT-CDO-ALLDAYEVENT:FALSE
SUMMARY:Popsicles In The Park
DESCRIPTION:Join the Neosho Freeman Family YMCA on Friday\, August 9th\, for Popsicles in Big Spring Park\, 11:00 am until Noon!
X-ALT-DESC;FMTTYPE=text/html:Join the Neosho Freeman Family YMCA on Friday\, August 9th\, for Popsicles in Big Spring Park\, 11:00 am until Noon!
LOCATION:Big Spring Park 308 W Spring St Neosho\, Missouri 64850
UID:e.2144.2661
SEQUENCE:3
DTSTAMP:20260421T105205Z
URL:https://neoshocc.com/events/details/popsicles-in-the-park-2661
END:VEVENT

END:VCALENDAR
