BEGIN:VCALENDAR
VERSION:2.0
PRODID:-//ChamberMaster//Event Calendar 2.0//EN
METHOD:PUBLISH
X-PUBLISHED-TTL:P3D
REFRESH-INTERVAL:P3D
CALSCALE:GREGORIAN
BEGIN:VEVENT
DTSTART:20160227T170000Z
DTEND:20160227T190000Z
X-MICROSOFT-CDO-ALLDAYEVENT:FALSE
SUMMARY:Polar Dash Family 5K Fun Run\, Walk & Ride
DESCRIPTION:Make plans to participate in the Polar Dash Family 5K Fun Run\, Walk & Ride to benefit the Tree of Life Family Advocacy Center & local families in need.
X-ALT-DESC;FMTTYPE=text/html:Make plans to participate in the Polar Dash Family 5K Fun Run\, Walk &amp\; Ride to benefit the Tree of Life Family Advocacy Center &amp\; local families in need.&nbsp\;&nbsp\;
LOCATION:Neosho Golf Course 1850 Clubhouse Road Neosho\, MO 64850
UID:e.2144.1531
SEQUENCE:3
DTSTAMP:20260421T130529Z
URL:https://neoshocc.com/events/details/polar-dash-family-5k-fun-run-walk-ride-02-27-2016-1531
END:VEVENT

END:VCALENDAR
