BEGIN:VCALENDAR
VERSION:2.0
PRODID:-//ChamberMaster//Event Calendar 2.0//EN
METHOD:PUBLISH
X-PUBLISHED-TTL:P3D
REFRESH-INTERVAL:P3D
CALSCALE:GREGORIAN
BEGIN:VEVENT
DTSTART:20210626T140000Z
DTEND:20210626T220000Z
X-MICROSOFT-CDO-ALLDAYEVENT:FALSE
SUMMARY:Plein Air Painting Competition & Exhibition
DESCRIPTION:$10 Entry Fee - Free Entry for current Circle of Patrons Artist Members\; first canvas provided - size 8x10 inch\n \n\nCheck in from 9:00 to 10:00am at Neosho Area Chamber of Commerce (216 West Spring Street\, Neosho\, MO 64850)\; Return finished from 2:00pm to 3:00pm at Neosho Area Chamber of Commerce Or Return from 3:00pm to 5:00pm at the Neosho Arts Council booth on the Square.\n \n\nArtists may choose any location inside the Neosho city limits to set up such as Big Spring Park\, Morse Park\, Neosho National Fish Hatchery\, Downtown\, etc. Please do not set up on private property unless you have permission.\n \n\nAll returned work will be displayed at the Big Spring Gallery inside the Neosho Area Chamber of Commerce (and our virtual gallery) during July and August. Cash Prizes will be awarded for First Place ($300)\, Second Place ($200)\, and Third Place ($100). Awards will be presented after July 4th.\n \n\nWork will be for sale with a 30% commission to Neosho Arts Council\n \n\nCanvas will be provided and stamped for this event. Additional canvases may be purchased for $5 each.\n \n\nOpen to any artist age 18+. Artist gives permission for Neosho Arts Council to photograph during the event and works during the show for promotional purposes.
X-ALT-DESC;FMTTYPE=text/html:<p dir="ltr" style="line-height:1.38\;margin-top:0pt\;margin-bottom:0pt\;"><span id="docs-internal-guid-515e3120-7fff-40a1-e6f2-6d9aec28ab39"><span style="font-size: 10pt\; font-family: Arial\; color: rgb(0\, 0\, 0)\; background-color: transparent\; font-variant-numeric: normal\; font-variant-east-asian: normal\; vertical-align: baseline\; white-space: pre-wrap\;">$10 Entry Fee - Free Entry for current Circle of Patrons Artist Members\; first canvas provided - size 8x10 inch</span></span></p>\n&nbsp\;\n\n<p dir="ltr" style="line-height:1.38\;margin-top:0pt\;margin-bottom:0pt\;"><span id="docs-internal-guid-515e3120-7fff-40a1-e6f2-6d9aec28ab39"><span style="font-size: 10pt\; font-family: Arial\; color: rgb(0\, 0\, 0)\; background-color: transparent\; font-variant-numeric: normal\; font-variant-east-asian: normal\; vertical-align: baseline\; white-space: pre-wrap\;">Check in from 9:00 to 10:00am at Neosho Area Chamber of Commerce (216 West Spring Street\, Neosho\, MO 64850)\; Return finished from 2:00pm to 3:00pm at Neosho Area Chamber of Commerce Or Return from 3:00pm to 5:00pm at the Neosho Arts Council booth on the Square.</span></span></p>\n&nbsp\;\n\n<p dir="ltr" style="line-height:1.38\;margin-top:0pt\;margin-bottom:0pt\;"><span id="docs-internal-guid-515e3120-7fff-40a1-e6f2-6d9aec28ab39"><span style="font-size: 10pt\; font-family: Arial\; color: rgb(0\, 0\, 0)\; background-color: transparent\; font-variant-numeric: normal\; font-variant-east-asian: normal\; vertical-align: baseline\; white-space: pre-wrap\;">Artists may choose any location inside the Neosho city limits to set up such as Big Spring Park\, Morse Park\, Neosho National Fish Hatchery\, Downtown\, etc. Please do not set up on private property unless you have permission.</span></span></p>\n&nbsp\;\n\n<p dir="ltr" style="line-height:1.38\;margin-top:0pt\;margin-bottom:0pt\;"><span id="docs-internal-guid-515e3120-7fff-40a1-e6f2-6d9aec28ab39"><span style="font-size: 10pt\; font-family: Arial\; color: rgb(0\, 0\, 0)\; background-color: transparent\; font-variant-numeric: normal\; font-variant-east-asian: normal\; vertical-align: baseline\; white-space: pre-wrap\;">All returned work will be displayed at the Big Spring Gallery inside the Neosho Area Chamber of Commerce (and our virtual gallery) during July and August. Cash Prizes will be awarded for First Place ($300)\, Second Place ($200)\, and Third Place ($100). Awards will be presented after July 4th.</span></span></p>\n&nbsp\;\n\n<p dir="ltr" style="line-height:1.38\;margin-top:0pt\;margin-bottom:0pt\;"><span id="docs-internal-guid-515e3120-7fff-40a1-e6f2-6d9aec28ab39"><span style="font-size: 10pt\; font-family: Arial\; color: rgb(0\, 0\, 0)\; background-color: transparent\; font-variant-numeric: normal\; font-variant-east-asian: normal\; vertical-align: baseline\; white-space: pre-wrap\;">Work will be for sale with a 30% commission to Neosho Arts Council</span></span></p>\n&nbsp\;\n\n<p dir="ltr" style="line-height:1.38\;margin-top:0pt\;margin-bottom:0pt\;"><span id="docs-internal-guid-515e3120-7fff-40a1-e6f2-6d9aec28ab39"><span style="font-size: 10pt\; font-family: Arial\; color: rgb(0\, 0\, 0)\; background-color: transparent\; font-variant-numeric: normal\; font-variant-east-asian: normal\; vertical-align: baseline\; white-space: pre-wrap\;">Canvas will be provided and stamped for this event. Additional canvases may be purchased for $5 each.</span></span></p>\n&nbsp\;\n\n<p dir="ltr" style="line-height:1.38\;margin-top:0pt\;margin-bottom:0pt\;"><span id="docs-internal-guid-515e3120-7fff-40a1-e6f2-6d9aec28ab39"><span style="font-size: 10pt\; font-family: Arial\; color: rgb(0\, 0\, 0)\; background-color: transparent\; font-variant-numeric: normal\; font-variant-east-asian: normal\; vertical-align: baseline\; white-space: pre-wrap\;">Open to any artist age 18+. Artist gives permission for Neosho Arts Council to photograph during the event and works during the show for promotional purposes.</span></span></p>\n
LOCATION:Where: Neosho\, MO
UID:e.2144.7659
SEQUENCE:3
DTSTAMP:20260423T145205Z
URL:https://neoshocc.com/events/details/plein-air-painting-competition-exhibition-7659
END:VEVENT

END:VCALENDAR
