BEGIN:VCALENDAR
VERSION:2.0
PRODID:-//ChamberMaster//Event Calendar 2.0//EN
METHOD:PUBLISH
X-PUBLISHED-TTL:P3D
REFRESH-INTERVAL:P3D
CALSCALE:GREGORIAN
BEGIN:VEVENT
DTSTART:20231112T200000Z
DTEND:20231112T220000Z
X-MICROSOFT-CDO-ALLDAYEVENT:FALSE
SUMMARY:Pete the Cat’s Big Hollywood Adventure
DESCRIPTION:Lights! Camera! Action! When Pete the Cat and his friend Callie sneak into Hollywood studios\, they get lost in the world of the movies. Join Pete\, Callie\, Ethel the Apatosaurus\, and Robo-Pete in this rockin' new musical adventure based on several fun-filled Pete the Cat books\, including Cavecat Pete\, Pete the Cat and the Treasure Map\, and The Cool Cat Boogie. TheaterWorksUSA brings theatrical productions to venues across the country for school-time and public performances. In-depth study guides are provided for each show\, offering suggestions for activities and discussions that meet classroom learning goals while engaging the entire family.
X-ALT-DESC;FMTTYPE=text/html:Lights! Camera! Action! When Pete the Cat and his friend Callie sneak into Hollywood studios\, they get lost in the world of the movies. Join Pete\, Callie\, Ethel the Apatosaurus\, and Robo-Pete in this rockin&#39\; new musical adventure based on several fun-filled Pete the Cat books\, including Cavecat Pete\, Pete the Cat and the Treasure Map\, and The Cool Cat Boogie. TheaterWorksUSA brings theatrical productions to venues across the country for school-time and public performances. In-depth study guides are provided for each show\, offering suggestions for activities and discussions that meet classroom learning goals while engaging the entire family.
LOCATION:Harry M. Cornell Arts and Entertainment Complex located at 212 West 7th St. Joplin\, MO 64801
UID:e.2144.10789
SEQUENCE:3
DTSTAMP:20260425T122036Z
URL:https://neoshocc.com/events/details/pete-the-cat-s-big-hollywood-adventure-10789
END:VEVENT

END:VCALENDAR
