BEGIN:VCALENDAR
VERSION:2.0
PRODID:-//ChamberMaster//Event Calendar 2.0//EN
METHOD:PUBLISH
X-PUBLISHED-TTL:P3D
REFRESH-INTERVAL:P3D
CALSCALE:GREGORIAN
BEGIN:VEVENT
DTSTART:20211113T170000Z
DTEND:20211113T200000Z
X-MICROSOFT-CDO-ALLDAYEVENT:FALSE
SUMMARY:Paws & Claus
DESCRIPTION:Bring your pet and take a photo with Mr. and Mrs. Claus! Kids\, too! We provide the set- you bring your pet. You use your own camera or phone. Take your best shot- we'll help you (or not)
X-ALT-DESC;FMTTYPE=text/html:Bring your pet and take a photo with Mr. and Mrs. Claus! Kids\, too! We provide the set- you bring your pet. You use your own camera or phone. Take your best shot- we&#39\;ll help you (or not)
LOCATION:Faithful Friends Thrift Store 914 W Harmony Neosho\, MO
UID:e.2144.8074
SEQUENCE:3
DTSTAMP:20260423T224359Z
URL:https://neoshocc.com/events/details/paws-claus-8074
END:VEVENT

END:VCALENDAR
