BEGIN:VCALENDAR
VERSION:2.0
PRODID:-//ChamberMaster//Event Calendar 2.0//EN
METHOD:PUBLISH
X-PUBLISHED-TTL:P3D
REFRESH-INTERVAL:P3D
CALSCALE:GREGORIAN
BEGIN:VEVENT
DTSTART:20140919T223000Z
DTEND:20140919T233000Z
X-MICROSOFT-CDO-ALLDAYEVENT:FALSE
SUMMARY:Patriot Day Parade
DESCRIPTION:The Patriot Day Parade will be held in conjunction with the Neosho Homecoming Parade on Friday September 19th at 3:30pm.  It is held to honor Veterans\, Emergency Services & the Victims of the 9/11/2001 Terror Attacks.
X-ALT-DESC;FMTTYPE=text/html:The Patriot Day Parade will be held in conjunction with the Neosho Homecoming Parade on Friday September 19th at 3:30pm.&nbsp\; It is held to honor Veterans\, Emergency Services &amp\; the Victims of the 9/11/2001 Terror Attacks.
LOCATION:Downtown Neosho Parade Route
UID:e.2144.34
SEQUENCE:3
DTSTAMP:20260422T150317Z
URL:https://neoshocc.com/events/details/patriot-day-parade-09-19-2014-34
END:VEVENT

END:VCALENDAR
