BEGIN:VCALENDAR
VERSION:2.0
PRODID:-//ChamberMaster//Event Calendar 2.0//EN
METHOD:PUBLISH
X-PUBLISHED-TTL:P3D
REFRESH-INTERVAL:P3D
CALSCALE:GREGORIAN
BEGIN:VEVENT
DTSTART:20141206T210000Z
DTEND:20141207T010000Z
X-MICROSOFT-CDO-ALLDAYEVENT:FALSE
SUMMARY:Pancake Feed - Boy Scout Troop 34
DESCRIPTION:Pancake Feed Before & After the Christmas Parade to Benefit Boy Scout Troop 34\, Sponsored by Neosho United Methodist Men.
X-ALT-DESC;FMTTYPE=text/html:Pancake Feed Before &amp\; After the Christmas Parade to Benefit Boy Scout Troop 34\, Sponsored by Neosho United Methodist Men.
LOCATION:Neosho United Methodist Church Basement\, one block southwest of square.
UID:e.2144.87
SEQUENCE:3
DTSTAMP:20260422T103858Z
URL:https://neoshocc.com/events/details/pancake-feed-boy-scout-troop-34-12-06-2014-87
END:VEVENT

END:VCALENDAR
