BEGIN:VCALENDAR
VERSION:2.0
PRODID:-//ChamberMaster//Event Calendar 2.0//EN
METHOD:PUBLISH
X-PUBLISHED-TTL:P3D
REFRESH-INTERVAL:P3D
CALSCALE:GREGORIAN
BEGIN:VEVENT
DTSTART:20210330T140000Z
DTEND:20210330T170000Z
X-MICROSOFT-CDO-ALLDAYEVENT:FALSE
SUMMARY:Open Interviews at Indigo Sky
DESCRIPTION:We're Looking for Roc Stars\, Ready for a New Exciting Career.\n\nWe are conducting Open Interviews March 30th & April 6th from 9am to 12 pm at the Indigo Sky Casino & Resort\, Sycamore Event Center
X-ALT-DESC;FMTTYPE=text/html:We&#39\;re Looking for Roc Stars\, Ready for a New Exciting Career.<br />\nWe are conducting Open Interviews March 30th &amp\; April 6th from 9am to 12 pm at the Indigo Sky Casino &amp\; Resort\, Sycamore Event Center<br />\n&nbsp\;
LOCATION:Indigo Sky Casino & Resort\, Sycamore Event Center 70220 E. Hwy 60 Wyandotte\, OK
UID:e.2144.7321
SEQUENCE:3
DTSTAMP:20260423T210251Z
URL:https://neoshocc.com/events/details/open-interviews-at-indigo-sky-7321
END:VEVENT

END:VCALENDAR
