BEGIN:VCALENDAR
VERSION:2.0
PRODID:-//ChamberMaster//Event Calendar 2.0//EN
METHOD:PUBLISH
X-PUBLISHED-TTL:P3D
REFRESH-INTERVAL:P3D
CALSCALE:GREGORIAN
BEGIN:VEVENT
DTSTART:20160128T180000Z
DTEND:20160128T210000Z
X-MICROSOFT-CDO-ALLDAYEVENT:FALSE
SUMMARY:Open House & Ribbon Cutting - Grey Oak Investments
DESCRIPTION:Please join us as we welcome our newest member\, Grey Oaks Investments to the chamber.
X-ALT-DESC;FMTTYPE=text/html:Please join us as we welcome our newest member\, Grey Oaks Investments&nbsp\;to the chamber.
LOCATION:
UID:e.2144.1540
SEQUENCE:3
DTSTAMP:20260421T143820Z
URL:https://neoshocc.com/events/details/open-house-ribbon-cutting-grey-oak-investments-01-28-2016-1540
END:VEVENT

END:VCALENDAR
