BEGIN:VCALENDAR
VERSION:2.0
PRODID:-//ChamberMaster//Event Calendar 2.0//EN
METHOD:PUBLISH
X-PUBLISHED-TTL:P3D
REFRESH-INTERVAL:P3D
CALSCALE:GREGORIAN
BEGIN:VEVENT
DTSTART:20150923T210000Z
DTEND:20150923T230000Z
X-MICROSOFT-CDO-ALLDAYEVENT:FALSE
SUMMARY:Open House for Multimodal Transportation Solutions\, Inc. - RIbbon Cutting/New Member Welcome
DESCRIPTION:You are invited to Join us for the Grand Opening Ribbon Cutting/New Member Welcome for Multimodal Transportation Solutions\, Inc.\, Wednesday\, September 23rd\, 2015 from 4pm to 6pm.  Dinner will be catered by Hatfields and will be served following the Ribbon Cutting Ceremony!  Please RSVP  to Sasha Roark or Bill Boyer by September 15th!  sasha.roark@modetransportation.com
X-ALT-DESC;FMTTYPE=text/html:You are invited to Join us for the Grand Opening Ribbon Cutting/New Member Welcome for Multimodal Transportation Solutions\, Inc.\, Wednesday\, September 23rd\, 2015 from 4pm to 6pm.&nbsp\; Dinner will be catered by Hatfields and will be served following the Ribbon Cutting Ceremony!&nbsp\; Please RSVP&nbsp\; to Sasha Roark or Bill Boyer by September 15th!&nbsp\; <a href="mailto:sasha.roark@modetransportation.com">sasha.roark@modetransportation.com</a>
LOCATION:5745 Eads Street Neosho\, Mo 64850
UID:e.2144.1448
SEQUENCE:3
DTSTAMP:20260421T202301Z
URL:https://neoshocc.com/events/details/open-house-for-multimodal-transportation-solutions-inc-ribbon-cutting-new-member-welcome-09-23-2015-1448
END:VEVENT

END:VCALENDAR
