BEGIN:VCALENDAR
VERSION:2.0
PRODID:-//ChamberMaster//Event Calendar 2.0//EN
METHOD:PUBLISH
X-PUBLISHED-TTL:P3D
REFRESH-INTERVAL:P3D
CALSCALE:GREGORIAN
BEGIN:VEVENT
DTSTART:20160416T140000Z
DTEND:20160416T190000Z
X-MICROSOFT-CDO-ALLDAYEVENT:FALSE
SUMMARY:Open House at the Neosho Natinal Fish Hatchery
DESCRIPTION:The Neosho Fish hatchery will host their annual Open House in conjunction with the Neosho Dogwood Tour.  There will be free homemade cookies and coffee served in the morning and free hot dog lunch at noon.  Live music\, conservation and naturalist exhibitors will be there and the Mo. Dept. of Conservation will be distributing free trees.
X-ALT-DESC;FMTTYPE=text/html:The Neosho Fish hatchery will host their annual Open House in conjunction with the Neosho Dogwood Tour.&nbsp\; There will be free homemade cookies and coffee served in the morning and free hot dog lunch at noon.&nbsp\; Live music\, conservation and naturalist exhibitors will be there and the Mo. Dept. of Conservation will be distributing free trees.
LOCATION:Neosho Fish Hatchery 520 E. Park
UID:e.2144.1598
SEQUENCE:3
DTSTAMP:20260421T101807Z
URL:https://neoshocc.com/events/details/open-house-at-the-neosho-natinal-fish-hatchery-04-16-2016-1598
END:VEVENT

END:VCALENDAR
