BEGIN:VCALENDAR
VERSION:2.0
PRODID:-//ChamberMaster//Event Calendar 2.0//EN
METHOD:PUBLISH
X-PUBLISHED-TTL:P3D
REFRESH-INTERVAL:P3D
CALSCALE:GREGORIAN
BEGIN:VEVENT
DTSTART:20210320T160000Z
DTEND:20210320T200000Z
X-MICROSOFT-CDO-ALLDAYEVENT:FALSE
SUMMARY:Onin Staffing Neosho Job Fair
DESCRIPTION:Where: 1101 S Neosho Blvd\, Neosho\, MO 64850-2001\, United States\n\nWhen: Saturday\, March 20\, 2021 at 11 AM CDT   3 PM CDT\n\n \n\nCome see us at our Job Fair on Saturday March 20th from 11AM-3PM at our office location at 1101 South Neosho Blvd\, Neosho\, MO.\n\n\n\nWe have several positions available for all shifts with pay rate ranging from $10.30-$16.00 an hour in the Neosho\, Joplin\, and surrounding area.\n\n\n\nWe offer some of the most robust healthcare benefits in the industry\, scholarship opportunities\, a liberal vacation and holiday pay plan and even bonus programs.
X-ALT-DESC;FMTTYPE=text/html:<div>\n<div>\n<div>\n<div>\n<div>\n<div><span style="color:black"><span style="font-family:times new roman\,serif"><span style="font-size:12.0pt">Where:&nbsp\;1101 S Neosho Blvd\, Neosho\, MO 64850-2001\, United States</span></span></span><br />\n<span style="color:black"><span style="font-family:times new roman\,serif"><span style="font-size:12.0pt">When:&nbsp\;Saturday\, March 20\, 2021 at 11 AM CDT &ndash\; 3 PM CDT</span></span></span><br />\n&nbsp\;<br />\n<span style="color:black"><span style="font-family:times new roman\,serif"><span style="font-size:12.0pt">Come see us at our Job Fair on Saturday March 20th from 11AM-3PM at our office location at 1101 South Neosho Blvd\, Neosho\, MO.</span></span></span><br />\n<br />\n<span style="color:black"><span style="font-family:times new roman\,serif"><span style="font-size:12.0pt">We have several positions available for all shifts with pay rate ranging from $10.30-$16.00 an hour in the Neosho\, Joplin\, and surrounding area.</span></span></span><br />\n<br />\n<span style="color:black"><span style="font-family:times new roman\,serif"><span style="font-size:12.0pt">We offer some of the most robust healthcare benefits in the industry\, scholarship opportunities\, a liberal vacation and holiday pay plan and even bonus programs.</span></span></span></div>\n</div>\n</div>\n</div>\n</div>\n</div>\n
LOCATION:Onin Staffing 1101 S Neosho Blvd Neosho\, MO 64850
UID:e.2144.7273
SEQUENCE:3
DTSTAMP:20260423T193420Z
URL:https://neoshocc.com/events/details/onin-staffing-neosho-job-fair-7273
END:VEVENT

END:VCALENDAR
