BEGIN:VCALENDAR
VERSION:2.0
PRODID:-//ChamberMaster//Event Calendar 2.0//EN
METHOD:PUBLISH
X-PUBLISHED-TTL:P3D
REFRESH-INTERVAL:P3D
CALSCALE:GREGORIAN
BEGIN:VEVENT
DTSTART:20160122T173000Z
DTEND:20160122T183000Z
X-MICROSOFT-CDO-ALLDAYEVENT:FALSE
SUMMARY:Onin Staffing Grand Re-Opening & Ribbon Cutting
DESCRIPTION:Join us for the Grand Re-Opening and Ribbon Cutting for Onin Staffing.  There will be refreshments and a tour of their new location.
X-ALT-DESC;FMTTYPE=text/html:Join us for the Grand Re-Opening and Ribbon Cutting&nbsp\;for Onin Staffing.&nbsp\; There will be refreshments and a tour of their new location.
LOCATION:1101 S. Neosho Blvd. Suite C Neosho\, MO
UID:e.2144.1536
SEQUENCE:3
DTSTAMP:20260421T144559Z
URL:https://neoshocc.com/events/details/onin-staffing-grand-re-opening-ribbon-cutting-01-22-2016-1536
END:VEVENT

END:VCALENDAR
