BEGIN:VCALENDAR
VERSION:2.0
PRODID:-//ChamberMaster//Event Calendar 2.0//EN
METHOD:PUBLISH
X-PUBLISHED-TTL:P3D
REFRESH-INTERVAL:P3D
CALSCALE:GREGORIAN
BEGIN:VEVENT
DTSTART:20141115T150000Z
DTEND:20141115T180000Z
X-MICROSOFT-CDO-ALLDAYEVENT:FALSE
SUMMARY:One in 5K and Backpack Shuffle Run
DESCRIPTION:Run for 1 in 5Kids - 5K Run to Benefit 8 Area Weekend BackPack Programs
X-ALT-DESC;FMTTYPE=text/html:Run for 1 in 5Kids - 5K Run to Benefit 8 Area Weekend BackPack Programs
LOCATION:MSSU Campus
UID:e.2144.70
SEQUENCE:3
DTSTAMP:20260422T120422Z
URL:https://neoshocc.com/events/details/one-in-5k-and-backpack-shuffle-run-11-15-2014-70
END:VEVENT

END:VCALENDAR
