BEGIN:VCALENDAR
VERSION:2.0
PRODID:-//ChamberMaster//Event Calendar 2.0//EN
METHOD:PUBLISH
X-PUBLISHED-TTL:P3D
REFRESH-INTERVAL:P3D
CALSCALE:GREGORIAN
BEGIN:VEVENT
DTSTART:20141014T160000Z
DTEND:20141014T170000Z
X-MICROSOFT-CDO-ALLDAYEVENT:FALSE
SUMMARY:October Employer of the Month Presentation - City of Neosho
DESCRIPTION:The City of Neosho is being recognized as the Employer of the Month by the Neosho Area Chamber of Commerce Business & Employer Appreciation Committee.  The presentation will be held at Big Spring Park.
X-ALT-DESC;FMTTYPE=text/html:The City of Neosho is being recognized as the Employer of the Month by the Neosho Area Chamber of Commerce Business &amp\; Employer Appreciation Committee.&nbsp\; The presentation will be held at Big Spring Park.
LOCATION:Big Spring Park
UID:e.2144.52
SEQUENCE:3
DTSTAMP:20260422T134758Z
URL:https://neoshocc.com/events/details/october-employer-of-the-month-presentation-city-of-neosho-10-14-2014-52
END:VEVENT

END:VCALENDAR
