BEGIN:VCALENDAR
VERSION:2.0
PRODID:-//ChamberMaster//Event Calendar 2.0//EN
METHOD:PUBLISH
X-PUBLISHED-TTL:P3D
REFRESH-INTERVAL:P3D
CALSCALE:GREGORIAN
BEGIN:VEVENT
DTSTART:20141018T223000Z
DTEND:20141019T010000Z
X-MICROSOFT-CDO-ALLDAYEVENT:FALSE
SUMMARY:"October Daze" at Neosho United Methodist Church
DESCRIPTION:"October Daze" at Neosho United Methodist Church Christian Life Center\n\nBarbeque Dinner & Talent Show
X-ALT-DESC;FMTTYPE=text/html:<div style="color: gray\;">&quot\;October Daze&quot\; at Neosho United Methodist Church Christian Life Center<br />\nBarbeque Dinner &amp\; Talent Show</div>\n
LOCATION:Neosho United Methodist Christian Life Center
UID:e.2144.66
SEQUENCE:3
DTSTAMP:20260422T134210Z
URL:https://neoshocc.com/events/details/october-daze-at-neosho-united-methodist-church-10-18-2014-66
END:VEVENT

END:VCALENDAR
