BEGIN:VCALENDAR
VERSION:2.0
PRODID:-//ChamberMaster//Event Calendar 2.0//EN
METHOD:PUBLISH
X-PUBLISHED-TTL:P3D
REFRESH-INTERVAL:P3D
CALSCALE:GREGORIAN
BEGIN:VEVENT
DTSTART:20190622T190000Z
DTEND:20190622T210000Z
X-MICROSOFT-CDO-ALLDAYEVENT:FALSE
SUMMARY:NY Times Best Selling Sci-Fi Authors Special Presentation
DESCRIPTION:New York Times Best Selling Sci-Fi Authors are coming to Neosho! Presented by the Neosho Arts Council.\n\n\n\nDayton Ward: "Star Trek" "Mars Attacks!" "Planet of the Apes" "The Last World War"\n\n\n\nKevin Dilmore: "Saving the Superhero" "Star Trek: Mirror Universe"
X-ALT-DESC;FMTTYPE=text/html:New York Times Best Selling Sci-Fi Authors are coming to Neosho! Presented by the&nbsp\;Neosho Arts Council.<br />\n<br />\nDayton Ward: &quot\;Star Trek&quot\; &quot\;Mars Attacks!&quot\; &quot\;Planet of the Apes&quot\; &quot\;The Last World War&quot\;<br />\n<br />\nKevin Dilmore: &quot\;Saving the Superhero&quot\; &quot\;Star Trek: Mirror Universe&quot\;
LOCATION:216 West Spring Street Neosho\, MO 64850
UID:e.2144.2543
SEQUENCE:3
DTSTAMP:20260424T003002Z
URL:https://neoshocc.com/events/details/ny-times-best-selling-sci-fi-authors-special-presentation-2543
END:VEVENT

END:VCALENDAR
