BEGIN:VCALENDAR
VERSION:2.0
PRODID:-//ChamberMaster//Event Calendar 2.0//EN
METHOD:PUBLISH
X-PUBLISHED-TTL:P3D
REFRESH-INTERVAL:P3D
CALSCALE:GREGORIAN
BEGIN:VEVENT
DTSTART;VALUE=DATE:20190625
DTEND;VALUE=DATE:20190626
TRANSP:TRANSPARENT
X-MICROSOFT-CDO-ALLDAYEVENT:TRUE
SUMMARY:NNCL Presents: Mike Anderson\, The Dulcimer Guy
DESCRIPTION:Join the Neosho/Newton County Library for a fun-filled one-of-a-kind musical experience with Mike\, the Dulcimer Guy.\n\n\n\nMike Anderson is one of the most versatile folk performers and educators in the Midwest. Mike plays guitar\, banjo\, jaw harp\, noseflute\, bones\, and more. He is best known as an outstanding mountain dulcimer player - one of the very best in the state and indeed the entire Midwest.\n\n\n\nAs an author and elementary school teacher\, Mike has honed his skills as a storyteller and is one of the best yarn-spinners and worst pun-tellers anywhere. The combination of music\, storytelling\, humor\, and educational background has made Anderson one of the most sought after performers and speakers in the Midwest. Mike Anderson is a driving force on the Illinois folk scene and is one of the people we can thank for keeping traditional music and storytelling alive.
X-ALT-DESC;FMTTYPE=text/html:<span style="color: rgb(28\, 30\, 33)\; font-family: Helvetica\, Arial\, sans-serif\; font-size: 14px\;">Join the Neosho/Newton County Library for a fun-filled one-of-a-kind musical experience with Mike\, the Dulcimer Guy.</span><br />\n<br />\n<span style="font-size:14px\;">Mike Anderson is one of the most versatile folk performers and educators in the Midwest. Mike plays guitar\, banjo\, jaw harp\, noseflute\, bones\, and more. He is best known as an outstanding mountain dulcimer player - one of the very best in the state and indeed the entire Midwest.<br />\n<br />\nAs an author and elementary school teacher\, Mike has honed his skills as&nbsp\;a storyteller and is one of the best yarn-spinners and worst pun-tellers&nbsp\;anywhere. The combination of music\, storytelling\, humor\, and educational&nbsp\;background has made Anderson one of the most sought after performers&nbsp\;and speakers in the Midwest. Mike Anderson is a driving force on the&nbsp\;Illinois folk scene and is one of the people we can thank for keeping traditional music and storytelling alive.</span>
LOCATION:
UID:e.2144.2573
SEQUENCE:3
DTSTAMP:20260424T002206Z
URL:https://neoshocc.com/events/details/nncl-presents-mike-anderson-the-dulcimer-guy-2573
END:VEVENT

END:VCALENDAR
