BEGIN:VCALENDAR
VERSION:2.0
PRODID:-//ChamberMaster//Event Calendar 2.0//EN
METHOD:PUBLISH
X-PUBLISHED-TTL:P3D
REFRESH-INTERVAL:P3D
CALSCALE:GREGORIAN
BEGIN:VEVENT
DTSTART:20141028T233000Z
DTEND:20141029T020000Z
X-MICROSOFT-CDO-ALLDAYEVENT:FALSE
SUMMARY:NHS Project Graduation Paddle Party
DESCRIPTION:Class of 2015 Project Graduation Paddle Party Sponsored by Diva Paddle Parties!
X-ALT-DESC;FMTTYPE=text/html:<div style="color: gray\;">Class of 2015 Project Graduation Paddle Party Sponsored by Diva Paddle Parties!</div>\n
LOCATION:Neosho High School Cafeteria (Use Rear Entrance)
UID:e.2144.65
SEQUENCE:3
DTSTAMP:20260422T150245Z
URL:https://neoshocc.com/events/details/nhs-project-graduation-paddle-party-10-28-2014-65
END:VEVENT

END:VCALENDAR
