BEGIN:VCALENDAR
VERSION:2.0
PRODID:-//ChamberMaster//Event Calendar 2.0//EN
METHOD:PUBLISH
X-PUBLISHED-TTL:P3D
REFRESH-INTERVAL:P3D
CALSCALE:GREGORIAN
BEGIN:VEVENT
DTSTART:20210522T160000Z
DTEND:20210522T190000Z
X-MICROSOFT-CDO-ALLDAYEVENT:FALSE
SUMMARY:Newton County SB40 Carnival for individuals with Developmental Disabilities and their Families
DESCRIPTION:This is a FREE event for Newton County Individuals with Developmental Disabilities and their Families.  We have Games\, Rides\, Food and so many prizes.  There will be face painting\, balloon twisting\, snow cones\, cotton candy and lots of fun!  Come on out and enjoy the day!  We can't wait to see you.
X-ALT-DESC;FMTTYPE=text/html:This is a FREE event for Newton County Individuals with Developmental Disabilities and their Families.&nbsp\; We have Games\, Rides\, Food and so many prizes.&nbsp\; There will be face painting\, balloon twisting\, snow cones\, cotton candy and lots of fun!&nbsp\; Come on out and enjoy the day!&nbsp\; We can&#39\;t wait to see you.
LOCATION:Country Charm Venue 18539 E Hwy 86 Neosho\, NO
UID:e.2144.7613
SEQUENCE:3
DTSTAMP:20260423T164005Z
URL:https://neoshocc.com/events/details/newton-county-sb40-carnival-for-individuals-with-developmental-disabilities-and-their-families-7613
END:VEVENT

END:VCALENDAR
