BEGIN:VCALENDAR
VERSION:2.0
PRODID:-//ChamberMaster//Event Calendar 2.0//EN
METHOD:PUBLISH
X-PUBLISHED-TTL:P3D
REFRESH-INTERVAL:P3D
CALSCALE:GREGORIAN
BEGIN:VEVENT
DTSTART:20190819T130000Z
DTEND:20190821T230000Z
X-MICROSOFT-CDO-ALLDAYEVENT:FALSE
SUMMARY:Newton County Disaster Recovery Center
DESCRIPTION:Newton County Disaster Recovery Center\n\nA Federal Emergency Management Agency (FEMA) Disaster Recovery Center will open for three days in Newton County\, Missouri starting Monday\, August 19\, 2019 to provide one-on-one assistance to Missourians affected by recent flooding and severe storms.\n\nDisaster recovery specialists from FEMA and the U.S. Small Business Administration will be on hand to provide information to homeowners\, renters\, and business owners on available services\, explain assistance programs\, and help survivors complete or check the status of their applications.\n\nMissourians from any county may visit any disaster recovery center. Before visiting a disaster recovery center\, residents may register online at www.DisasterAssistance.gov or call 800-621-FEMA (3362). Specialists will be available at the disaster recovery center to assist individuals in completing their registration as well.\n\nFollow recovery updates in Missouri on Twitter @MOSEMA_ and @FEMARegion7. Get the latest details at Missouri's disaster recovery website and FEMA's disaster webpage\, www.DisasterAssistance.gov.\n\n\n\nThe City of Neosho and local emergency agencies will release more information about this event as it becomes available. Details will also be posted at www.NeoshoMO.org\, on the City of Neosho's Facebook page at: facebook.com/CityofNeosho\, or can be obtained by contacting Neosho City Hall at (417) 451-8050.
X-ALT-DESC;FMTTYPE=text/html:Newton County Disaster Recovery Center<br />\nA Federal Emergency Management Agency (FEMA) Disaster Recovery Center will open for three days in Newton County\, Missouri starting Monday\, August 19\, 2019 to provide one-on-one assistance to Missourians affected by recent flooding and severe storms.<br />\nDisaster recovery specialists from FEMA and the U.S. Small Business Administration will be on hand to provide information to homeowners\, renters\, and business owners on available services\, explain assistance programs\, and help survivors complete or check the status of their applications.<br />\nMissourians from any county may visit any disaster recovery center. Before visiting a disaster recovery center\, residents may register online at www.DisasterAssistance.gov or call 800-621-FEMA (3362). Specialists will be available at the disaster recovery center to assist individuals in completing their registration as well.<br />\nFollow recovery updates in Missouri on Twitter @MOSEMA_ and @FEMARegion7. Get the latest details at Missouri&#39\;s disaster recovery website and FEMA&#39\;s disaster webpage\, www.DisasterAssistance.gov.<br />\n<br />\nThe City of Neosho and local emergency agencies will release more information about this event as it becomes available. Details will also be posted at www.NeoshoMO.org\, on the City of Neosho&#39\;s Facebook page at: facebook.com/CityofNeosho\, or can be obtained by contacting Neosho City Hall at (417) 451-8050.
LOCATION:Lampo Community Center 500 E. Spring St. Neosho\, MO 64850
UID:e.2144.2702
SEQUENCE:3
DTSTAMP:20260421T085134Z
URL:https://neoshocc.com/events/details/newton-county-disaster-recovery-center-2702
END:VEVENT

END:VCALENDAR
