BEGIN:VCALENDAR
VERSION:2.0
PRODID:-//ChamberMaster//Event Calendar 2.0//EN
METHOD:PUBLISH
X-PUBLISHED-TTL:P3D
REFRESH-INTERVAL:P3D
CALSCALE:GREGORIAN
BEGIN:VEVENT
DTSTART;VALUE=DATE:20190807
DTEND;VALUE=DATE:20190808
TRANSP:TRANSPARENT
X-MICROSOFT-CDO-ALLDAYEVENT:TRUE
SUMMARY:New Teacher Tour 2019
DESCRIPTION:Join us as we welcome new teachers to the Neosho Area for the 2019-2020 school year! We will gift new teachers with a swag bag from area businesses then take them on an exciting\, informative tour of Neosho and provide them with a little history along the way. The tour will be followed by a lunch and learn at Crowder College. Sponsorship opportunities are available by contacting the Neosho Area Chamber of Commerce.
X-ALT-DESC;FMTTYPE=text/html:Join us as we welcome new teachers to the Neosho Area for the 2019-2020 school year! We will gift new teachers with a swag bag from area businesses then take them on an exciting\, informative tour of Neosho and provide them with a little history along the way. The tour will be followed by a lunch and learn at Crowder College. Sponsorship opportunities are available by contacting the Neosho Area Chamber of Commerce.
LOCATION:
UID:e.2144.2203
SEQUENCE:3
DTSTAMP:20260421T084858Z
URL:https://neoshocc.com/events/details/new-teacher-tour-2019-2203
END:VEVENT

END:VCALENDAR
