BEGIN:VCALENDAR
VERSION:2.0
PRODID:-//ChamberMaster//Event Calendar 2.0//EN
METHOD:PUBLISH
X-PUBLISHED-TTL:P3D
REFRESH-INTERVAL:P3D
CALSCALE:GREGORIAN
BEGIN:VEVENT
DTSTART:20190820T150000Z
DTEND:20190820T150000Z
X-MICROSOFT-CDO-ALLDAYEVENT:FALSE
SUMMARY:New Member Welcome - Studio 49
DESCRIPTION:Join us as we welcome Studio 49 to the Neosho Chamber Family.
X-ALT-DESC;FMTTYPE=text/html:Join us as we welcome Studio 49 to the Neosho Chamber Family.&nbsp\;
LOCATION:1577 N Business 49 Neosho\, MO 64850
UID:e.2144.2653
SEQUENCE:3
DTSTAMP:20260421T094342Z
URL:https://neoshocc.com/events/details/new-member-welcome-studio-49-2653
END:VEVENT

END:VCALENDAR
