BEGIN:VCALENDAR
VERSION:2.0
PRODID:-//ChamberMaster//Event Calendar 2.0//EN
METHOD:PUBLISH
X-PUBLISHED-TTL:P3D
REFRESH-INTERVAL:P3D
CALSCALE:GREGORIAN
BEGIN:VEVENT
DTSTART:20160129T170000Z
DTEND:20160129T180000Z
X-MICROSOFT-CDO-ALLDAYEVENT:FALSE
SUMMARY:New Member Welcome- Leah's Borrowed Table
DESCRIPTION:Please join us on Friday\, January 29th as we welcome Leah's Borrowed Table to the Neosho Area Chamber of Commerce.
X-ALT-DESC;FMTTYPE=text/html:Please join us on Friday\, January 29th as we welcome Leah&#39\;s Borrowed Table to the Neosho Area Chamber of Commerce.
LOCATION:127 E. Main on the Square
UID:e.2144.1542
SEQUENCE:3
DTSTAMP:20260421T144212Z
URL:https://neoshocc.com/events/details/new-member-welcome-leah-s-borrowed-table-01-29-2016-1542
END:VEVENT

END:VCALENDAR
