BEGIN:VCALENDAR
VERSION:2.0
PRODID:-//ChamberMaster//Event Calendar 2.0//EN
METHOD:PUBLISH
X-PUBLISHED-TTL:P3D
REFRESH-INTERVAL:P3D
CALSCALE:GREGORIAN
BEGIN:VEVENT
DTSTART:20190607T200000Z
DTEND:20190607T203000Z
X-MICROSOFT-CDO-ALLDAYEVENT:FALSE
SUMMARY:New Member Welcome - JJ Floral & Gifts
DESCRIPTION:Join us as we welcome JJ Floral & Gifts to the Neosho Chamber family!
X-ALT-DESC;FMTTYPE=text/html:Join us as we welcome JJ Floral &amp\; Gifts to the Neosho Chamber family!&nbsp\;
LOCATION:14427 Highway K Seneca\, MO
UID:e.2144.2551
SEQUENCE:3
DTSTAMP:20260423T224958Z
URL:https://neoshocc.com/events/details/new-member-welcome-jj-floral-gifts-2551
END:VEVENT

END:VCALENDAR
