BEGIN:VCALENDAR
VERSION:2.0
PRODID:-//ChamberMaster//Event Calendar 2.0//EN
METHOD:PUBLISH
X-PUBLISHED-TTL:P3D
REFRESH-INTERVAL:P3D
CALSCALE:GREGORIAN
BEGIN:VEVENT
DTSTART:20190611T180000Z
DTEND:20190611T183000Z
X-MICROSOFT-CDO-ALLDAYEVENT:FALSE
SUMMARY:New Member Welcome - Co-Ribbon Cutting
DESCRIPTION:Join us for a Co-Ribbon Cutting for Clyde R. Burdick Post 163 & American Legion Auxiliary.
X-ALT-DESC;FMTTYPE=text/html:Join us for a Co-Ribbon Cutting for Clyde R. Burdick Post 163 &amp\; American Legion Auxiliary.&nbsp\;\n<p class="direction-ltr align-center para-style-body" style="cursor: unset\; margin: 0px\; padding: 0px\; counter-reset: list-1 0 list-2 0 list-3 0 list-4 0 list-5 0 list-6 0 list-7 0 list-8 0 list-9 0\; text-align: center\; font-variant-ligatures: no-common-ligatures\; background-color: rgb(237\, 240\, 242)\; line-height: 1.11\; font-family: &quot\;YADK3_DWcOc 0&quot\;\, _fb_\, auto\; font-size: 18.5699px\; text-transform: uppercase\; color: rgb(255\, 255\, 255)\;">&nbsp\;</p>\n
LOCATION:NACC Office 216 W. Spring St.
UID:e.2144.2552
SEQUENCE:3
DTSTAMP:20260423T224828Z
URL:https://neoshocc.com/events/details/new-member-welcome-co-ribbon-cutting-2552
END:VEVENT

END:VCALENDAR
