BEGIN:VCALENDAR
VERSION:2.0
PRODID:-//ChamberMaster//Event Calendar 2.0//EN
METHOD:PUBLISH
X-PUBLISHED-TTL:P3D
REFRESH-INTERVAL:P3D
CALSCALE:GREGORIAN
BEGIN:VEVENT
DTSTART;VALUE=DATE:20190620
DTEND;VALUE=DATE:20190623
TRANSP:TRANSPARENT
X-MICROSOFT-CDO-ALLDAYEVENT:TRUE
SUMMARY:Neosho Wildcat Soccer Camp
DESCRIPTION:Have kids ages 6-12 in the Neosho area? We'd love to have them join us for the Neosho Soccer Camp on June 20-22. Cost is $30 per child or 2 for $50. Register online at www.soccerlife64850.com
X-ALT-DESC;FMTTYPE=text/html:<span style="font-size:16px\;"><span style="color: rgb(29\, 33\, 41)\; font-family: Helvetica\, Arial\, sans-serif\; white-space: pre-wrap\;">Have kids ages 6-12 in the Neosho area? We&rsquo\;d love to have them join us for the Neosho Soccer Camp on June 20-22. Cost is $30 per child or 2 for $50. Register online at </span><a data-lynx-mode="hover" href="https://l.facebook.com/l.php?u=http%3A%2F%2Fwww.soccerlife64850.com%2F%3Ffbclid%3DIwAR1VJF3NuzjHwKakPoomoiiD0OPrQgDZxlITTBxyiLQQKF6jGbd2FkZ8ISA&amp\;h=AT2Eo_4bV_CPNmltbLoqXFwFjiw51smbcQ3qTOixFAiF7R8248xkTsj4tpmgn26azLRxounM-9xqYQ_zV49aLQXv4s4UfONgSQGbF8gFspBPswvC_79_7b5-PPJZYZAteA" rel="nofollow noopener" style="color: rgb(56\, 88\, 152)\; cursor: pointer\; text-decoration-line: none\; font-family: Helvetica\, Arial\, sans-serif\; font-size: 14px\; white-space: pre-wrap\;" target="_blank">www.soccerlife64850.com</a></span>
LOCATION:Lions Field 1120 Carl Sweeney Parkway Neosho\, MO 64850
UID:e.2144.2561
SEQUENCE:3
DTSTAMP:20260424T002219Z
URL:https://neoshocc.com/events/details/neosho-wildcat-soccer-camp-2561
END:VEVENT

END:VCALENDAR
