BEGIN:VCALENDAR
VERSION:2.0
PRODID:-//ChamberMaster//Event Calendar 2.0//EN
METHOD:PUBLISH
X-PUBLISHED-TTL:P3D
REFRESH-INTERVAL:P3D
CALSCALE:GREGORIAN
BEGIN:VEVENT
DTSTART;VALUE=DATE:20220430
DTEND;VALUE=DATE:20220501
TRANSP:TRANSPARENT
X-MICROSOFT-CDO-ALLDAYEVENT:TRUE
SUMMARY:Neosho Sprint Triathlon
DESCRIPTION:This event is sanctioned by USA Triathlon. This provides competitors with athlete excess medical coverage for the event\, inclusion in the USA Triathlon National Ranking System\, and compliance with USA Triathlon Competitive Rules.\nIndividual Entrant:\n\n $55 through April 23rd\n\n $65 after April 23rd\n\nTeam Entry:\n\n $50 per team member through April 23rd\n\n $60 per team member after April 23rd\n\n**Please note the registration fees listed above do not include any credit card or online processing fees.\n\n**Because of printing schedules\, registration after April 20th may result in not receiving your shirt with packet pick-up.
X-ALT-DESC;FMTTYPE=text/html:<span style="background-color:rgb(255\, 255\, 255)\; color:rgb(51\, 51\, 51)\; font-family:oswald\; font-size:15px">This event is sanctioned by USA Triathlon. This provides competitors with athlete excess medical coverage for the event\, inclusion in the USA Triathlon National Ranking System\, and compliance with&nbsp\;</span><a href="http://www.usatriathlon.org/about-multisport/rulebook.aspx" style="margin: 0px\; padding: 0px\; border: 0px\; outline: 0px\; font-size: 15px\; vertical-align: baseline\; background: rgb(255\, 255\, 255)\; color: rgb(138\, 0\, 0)\; text-decoration-line: none\; font-family: Oswald\;" target="_blank">USA Triathlon Competitive Rules</a><span style="background-color:rgb(255\, 255\, 255)\; color:rgb(51\, 51\, 51)\; font-family:oswald\; font-size:15px">.</span>\n<p><span style="color:rgb(128\, 0\, 0)">Individual Entrant:</span><br />\n&bull\;$55 through April 23rd<br />\n&bull\;$65 after April 23rd</p>\n\n<p><span style="color:rgb(128\, 0\, 0)">Team Entry:</span><br />\n&bull\;$50 per team member through April 23rd<br />\n&bull\;$60 per team member after April 23rd</p>\n\n<p><span style="color:rgb(128\, 128\, 128)">**Please note the registration fees listed above do not include any credit card or online processing fees.</span></p>\n\n<p><span style="color:rgb(128\, 128\, 128)">**Because of printing schedules\, registration after April 20th may result in not receiving your shirt with packet pick-up.</span></p>\n
LOCATION:Event Date: Saturday\, April 30\, 2022 Start Time: 9:00 a.m. Event Location: Neosho Freeman Family YMCA\, Neosho\, Missouri. Click here for map. Event Distances: 300-yard pool swim 12.5 mile bike 5K run
UID:e.2144.8268
SEQUENCE:3
DTSTAMP:20260424T060108Z
URL:https://neoshocc.com/events/details/neosho-sprint-triathlon-8268
END:VEVENT

END:VCALENDAR
