BEGIN:VCALENDAR
VERSION:2.0
PRODID:-//ChamberMaster//Event Calendar 2.0//EN
METHOD:PUBLISH
X-PUBLISHED-TTL:P3D
REFRESH-INTERVAL:P3D
CALSCALE:GREGORIAN
BEGIN:VEVENT
DTSTART;VALUE=DATE:20190805
DTEND;VALUE=DATE:20190807
TRANSP:TRANSPARENT
X-MICROSOFT-CDO-ALLDAYEVENT:TRUE
SUMMARY:Neosho School District New Student Enrollment: Session 2
DESCRIPTION:Join the Neosho School District for New Student Enrollment. Please help spread the word to those who are joining Wildcat Nation!\n\n\n\nPlease Bring:\n\n\n	Proof of Residency\n	Birth Certificate\n	Immunization Records\n	Social Security Card (Optional)\n	Medicaid Card (If Applicable)\n	Previous School Contact Info\n	Custodial Papers (If Applicable)
X-ALT-DESC;FMTTYPE=text/html:<p style="margin: 0px 0px 6px\; font-family: Helvetica\, Arial\, sans-serif\; color: rgb(28\, 30\, 33)\; font-size: 14px\;"><span style="font-size:16px\;">Join the Neosho School District for New Student Enrollment. Please help spread the word to those who are joining Wildcat Nation!<br />\n<br />\nPlease Bring:</span></p>\n\n<ul>\n	<li style="margin: 0px 0px 6px\; font-family: Helvetica\, Arial\, sans-serif\; color: rgb(28\, 30\, 33)\; font-size: 14px\;"><span style="font-size:16px\;">Proof of Residency</span></li>\n	<li style="margin: 0px 0px 6px\; font-family: Helvetica\, Arial\, sans-serif\; color: rgb(28\, 30\, 33)\; font-size: 14px\;"><span style="font-size:16px\;">Birth Certificate</span></li>\n	<li style="margin: 0px 0px 6px\; font-family: Helvetica\, Arial\, sans-serif\; color: rgb(28\, 30\, 33)\; font-size: 14px\;"><span style="font-size:16px\;">Immunization Records</span></li>\n	<li style="margin: 0px 0px 6px\; font-family: Helvetica\, Arial\, sans-serif\; color: rgb(28\, 30\, 33)\; font-size: 14px\;"><span style="font-size:16px\;">Social Security Card (Optional)</span></li>\n	<li style="margin: 0px 0px 6px\; font-family: Helvetica\, Arial\, sans-serif\; color: rgb(28\, 30\, 33)\; font-size: 14px\;"><span style="font-size:16px\;">Medicaid Card (If Applicable)</span></li>\n	<li style="margin: 0px 0px 6px\; font-family: Helvetica\, Arial\, sans-serif\; color: rgb(28\, 30\, 33)\; font-size: 14px\;"><span style="font-size:16px\;">Previous School Contact Info</span></li>\n	<li style="margin: 0px 0px 6px\; font-family: Helvetica\, Arial\, sans-serif\; color: rgb(28\, 30\, 33)\; font-size: 14px\;"><span style="font-size:16px\;">Custodial Papers (If Applicable)</span></li>\n</ul>\n\n<p style="margin: 6px 0px 0px\; display: inline\; font-family: Helvetica\, Arial\, sans-serif\; color: rgb(28\, 30\, 33)\; font-size: 14px\;">&nbsp\;</p>\n
LOCATION:Grades K-12 will enroll at the Neosho High School Main Entrance. 511 S Neosho Blvd\, Neosho\, MO 64850 Kindergarten screenings onsite. Spanish interpreter available.
UID:e.2144.2598
SEQUENCE:3
DTSTAMP:20260421T084914Z
URL:https://neoshocc.com/events/details/neosho-school-district-new-student-enrollment-session-2-2598
END:VEVENT

END:VCALENDAR
