BEGIN:VCALENDAR
VERSION:2.0
PRODID:-//ChamberMaster//Event Calendar 2.0//EN
METHOD:PUBLISH
X-PUBLISHED-TTL:P3D
REFRESH-INTERVAL:P3D
CALSCALE:GREGORIAN
BEGIN:VEVENT
DTSTART;VALUE=DATE:20220610
DTEND;VALUE=DATE:20220611
TRANSP:TRANSPARENT
X-MICROSOFT-CDO-ALLDAYEVENT:TRUE
SUMMARY:Neosho National Fish Hatchery - Senior Fishing day
DESCRIPTION:Senors 62 or over & individuals of any age with a permanent disability.\n\nHours: registration begins 8am\, free fishing 9am -12pm. \n\nFishing tackle and bait provided.\n\nNo license or tag required\; four trout limits. Free Lunch!
X-ALT-DESC;FMTTYPE=text/html:Senors 62 or over &amp\; individuals of any age with a permanent disability.<br />\nHours: registration begins 8am\, free fishing 9am -12pm.&nbsp\;<br />\nFishing tackle and bait provided.<br />\nNo license or tag required\; four trout limits. Free Lunch!
LOCATION:Neosho National Fish Hatchery 520 Park St Neosho MO 6850
UID:e.2144.8262
SEQUENCE:3
DTSTAMP:20260424T092615Z
URL:https://neoshocc.com/events/details/neosho-national-fish-hatchery-senior-fishing-day-8262
END:VEVENT

END:VCALENDAR
