BEGIN:VCALENDAR
VERSION:2.0
PRODID:-//ChamberMaster//Event Calendar 2.0//EN
METHOD:PUBLISH
X-PUBLISHED-TTL:P3D
REFRESH-INTERVAL:P3D
CALSCALE:GREGORIAN
BEGIN:VEVENT
DTSTART:20220603T140000Z
DTEND:20220603T200000Z
X-MICROSOFT-CDO-ALLDAYEVENT:FALSE
SUMMARY:Neosho National Fish Hatchery - KID'S FISHING DAY
DESCRIPTION:Kid's Fishing Day\n\nChildren ages 7-12\n\nPreregistration available for one of two sessions (Taken in the month of May)\;\n\n9am-11am or 1pm-3pm\n\nStop in or all 417-451-0554.\n\nFishing tackle and bait provided\, no license or tag required\; four trout limits. \n\nRegistrations acepted during the sessions.
X-ALT-DESC;FMTTYPE=text/html:Kid&#39\;s Fishing Day<br />\nChildren ages 7-12<br />\nPreregistration available for one of two sessions (Taken in the month of May)\;<br />\n9am-11am or 1pm-3pm<br />\nStop in or all 417-451-0554.<br />\nFishing tackle and bait provided\, no license or tag required\; four trout limits.&nbsp\;<br />\nRegistrations acepted during the sessions.
LOCATION:Neosho National Fish Hatchery 520 Park St Neosho MO 64850
UID:e.2144.8261
SEQUENCE:3
DTSTAMP:20260424T092604Z
URL:https://neoshocc.com/events/details/neosho-national-fish-hatchery-kid-s-fishing-day-8261
END:VEVENT

END:VCALENDAR
