BEGIN:VCALENDAR
VERSION:2.0
PRODID:-//ChamberMaster//Event Calendar 2.0//EN
METHOD:PUBLISH
X-PUBLISHED-TTL:P3D
REFRESH-INTERVAL:P3D
CALSCALE:GREGORIAN
BEGIN:VEVENT
DTSTART:20160114T173000Z
DTEND:20160114T183000Z
X-MICROSOFT-CDO-ALLDAYEVENT:FALSE
SUMMARY:Neosho Lunch Buddy Lunch & Learn
DESCRIPTION:Come see if the Neosho Lunch Buddy Program is right for you.
X-ALT-DESC;FMTTYPE=text/html:Come see if the Neosho Lunch Buddy Program is right for you.
LOCATION:
UID:e.2144.1525
SEQUENCE:3
DTSTAMP:20260421T143321Z
URL:https://neoshocc.com/events/details/neosho-lunch-buddy-lunch-learn-01-14-2016-1525
END:VEVENT

END:VCALENDAR
