BEGIN:VCALENDAR
VERSION:2.0
PRODID:-//ChamberMaster//Event Calendar 2.0//EN
METHOD:PUBLISH
X-PUBLISHED-TTL:P3D
REFRESH-INTERVAL:P3D
CALSCALE:GREGORIAN
BEGIN:VEVENT
DTSTART:20211028T133000Z
DTEND:20211028T210000Z
X-MICROSOFT-CDO-ALLDAYEVENT:FALSE
SUMMARY:Neosho Hiring Fair - General Mills Joplin
DESCRIPTION:Neosho Hiring Fair for General Mills Joplin.  General Mills is a global food company that has the mission of making food the world loves and needs.  Open positions include Production Utility (2nd & 3rd shifts) & Maintenance Technician (3rd shift)
X-ALT-DESC;FMTTYPE=text/html:Neosho Hiring Fair for General Mills Joplin.&nbsp\; General Mills is a global food company that has the mission of making food the world loves and needs.&nbsp\; Open positions include Production Utility (2nd &amp\; 3rd shifts) &amp\; Maintenance Technician (3rd shift)<br />\n<br />\n&nbsp\;
LOCATION:Neosho Area Chamber of Commerce Conference Room
UID:e.2144.8044
SEQUENCE:3
DTSTAMP:20260423T210817Z
URL:https://neoshocc.com/events/details/neosho-hiring-fair-general-mills-joplin-8044
END:VEVENT

END:VCALENDAR
