BEGIN:VCALENDAR
VERSION:2.0
PRODID:-//ChamberMaster//Event Calendar 2.0//EN
METHOD:PUBLISH
X-PUBLISHED-TTL:P3D
REFRESH-INTERVAL:P3D
CALSCALE:GREGORIAN
BEGIN:VEVENT
DTSTART:20220410T140000Z
DTEND:20220410T190000Z
X-MICROSOFT-CDO-ALLDAYEVENT:FALSE
SUMMARY:Neosho Fish Hatchery Open House
DESCRIPTION:A hatchery and its community. MDC distributes free native trees\, exhibitors offer safety awareness\, introduction to outdoor skills\, area resources for conservation\, urban/rural habitat restoration and ideas for exploring the region. Free lunch!
X-ALT-DESC;FMTTYPE=text/html:A hatchery and its community. MDC distributes free native trees\, exhibitors offer safety awareness\, introduction to outdoor skills\, area resources for conservation\, urban/rural habitat restoration and ideas for exploring the region. Free lunch!
LOCATION:Neosho National Fish Hatchery 520 Park St. Neosho MO
UID:e.2144.8259
SEQUENCE:3
DTSTAMP:20260424T073722Z
URL:https://neoshocc.com/events/details/neosho-fish-hatchery-open-house-8259
END:VEVENT

END:VCALENDAR
