BEGIN:VCALENDAR
VERSION:2.0
PRODID:-//ChamberMaster//Event Calendar 2.0//EN
METHOD:PUBLISH
X-PUBLISHED-TTL:P3D
REFRESH-INTERVAL:P3D
CALSCALE:GREGORIAN
BEGIN:VEVENT
DTSTART:20141005T170000Z
DTEND:20141005T210000Z
X-MICROSOFT-CDO-ALLDAYEVENT:FALSE
SUMMARY:Neosho Fall Festival Cruise In
DESCRIPTION:Neosho Fall Festival Cruise-In
X-ALT-DESC;FMTTYPE=text/html:Neosho Fall Festival Cruise-In<br />\n&nbsp\;
LOCATION:E. Main Street & Square
UID:e.2144.50
SEQUENCE:3
DTSTAMP:20260422T134043Z
URL:https://neoshocc.com/events/details/neosho-fall-festival-cruise-in-10-05-2014-50
END:VEVENT

END:VCALENDAR
