BEGIN:VCALENDAR
VERSION:2.0
PRODID:-//ChamberMaster//Event Calendar 2.0//EN
METHOD:PUBLISH
X-PUBLISHED-TTL:P3D
REFRESH-INTERVAL:P3D
CALSCALE:GREGORIAN
BEGIN:VEVENT
DTSTART;VALUE=DATE:20141004
DTEND;VALUE=DATE:20141006
TRANSP:TRANSPARENT
X-MICROSOFT-CDO-ALLDAYEVENT:TRUE
SUMMARY:Neosho Fall Festival Autumn Harvest
DESCRIPTION:Entertainment\, Crafts\, Food & Fun on the Historic Downtown Square\n\nVendors from throughout the Ozarks!  2nd Annual Coaster Car Race\n\nScarecrow Contest\, History Alley\, Festival Food\, Art Show\, Free Inflatable Rides\, Live Music All Day & Much More!
X-ALT-DESC;FMTTYPE=text/html:<p>Entertainment\, Crafts\, Food &amp\; Fun on the Historic Downtown Square<br />\nVendors from throughout the Ozarks!&nbsp\; 2nd Annual Coaster Car Race<br />\nScarecrow Contest\, History Alley\, Festival Food\, Art Show\, Free Inflatable Rides\, Live Music All Day &amp\; Much More!</p>\n\n<p><br />\n<br />\n&nbsp\;</p>\n
LOCATION:Historic Downtown Neosho Square
UID:e.2144.27
SEQUENCE:3
DTSTAMP:20260422T133451Z
URL:https://neoshocc.com/events/details/neosho-fall-festival-autumn-harvest-10-04-2014-27
END:VEVENT

END:VCALENDAR
