BEGIN:VCALENDAR
VERSION:2.0
PRODID:-//ChamberMaster//Event Calendar 2.0//EN
METHOD:PUBLISH
X-PUBLISHED-TTL:P3D
REFRESH-INTERVAL:P3D
CALSCALE:GREGORIAN
BEGIN:VEVENT
DTSTART;VALUE=DATE:20211002
DTEND;VALUE=DATE:20211003
TRANSP:TRANSPARENT
X-MICROSOFT-CDO-ALLDAYEVENT:TRUE
SUMMARY:Neosho Fall Festival
DESCRIPTION:Held the first full weekend of each October\, the City of Neosho Fall Festival has became one of the fastest growing and active Arts & Craft Festivals in the Midwest region. The City of Neosho in conjunction with the Newton County Historical Society and the Neosho Arts Council\, bring together one of the largest arrays of vendors\, activities\, fine art\, cultural and historical activities in one location.\n\nThis event has developed into a come and stay destination. Plenty of activities for the entire family such as laser tag\, inflatables and mechanical rides for the kids\, model train displays\, coaster car races\, and much more. The Newton County Historical Society presents a History Alley display that encompasses life and life styles of the mid-1800's each year on the Saturday of the festival.\n\nThe Neosho Arts Council presents Fine Art displays and sales\, along with a Scare Crow Contest\, sidewalk art contest and kid's art. All of this with no gate fee! Come see us in Neosho!\n\n\n\nDownload our Experience Neosho app for all the details!
X-ALT-DESC;FMTTYPE=text/html:<div class="kvgmc6g5 cxmmr5t8 oygrvhab hcukyx3x c1et5uql" style="overflow-wrap: break-word\; margin: 0px\; font-family: &quot\;Segoe UI Historic&quot\;\, &quot\;Segoe UI&quot\;\, Helvetica\, Arial\, sans-serif\; color: rgb(5\, 5\, 5)\; font-size: 15px\;">Held the first full weekend of each October\, the City of Neosho Fall Festival has became one of the fastest growing and active Arts &amp\; Craft Festivals in the Midwest region. The City of Neosho in conjunction with the Newton County Historical Society and the Neosho Arts Council\, bring together one of the largest arrays of vendors\, activities\, fine art\, cultural and historical activities in one location.</div>\n\n<div class="o9v6fnle cxmmr5t8 oygrvhab hcukyx3x c1et5uql" style="overflow-wrap: break-word\; margin: 0.5em 0px 0px\; font-family: &quot\;Segoe UI Historic&quot\;\, &quot\;Segoe UI&quot\;\, Helvetica\, Arial\, sans-serif\; color: rgb(5\, 5\, 5)\; font-size: 15px\;">This event has developed into a come and stay destination. Plenty of activities for the entire family such as laser tag\, inflatables and mechanical rides for the kids\, model train displays\, coaster car races\, and much more. The Newton County Historical Society presents a History Alley display that encompasses life and life styles of the mid-1800&#39\;s each year on the Saturday of the festival.</div>\n\n<div class="o9v6fnle cxmmr5t8 oygrvhab hcukyx3x c1et5uql" style="overflow-wrap: break-word\; margin: 0.5em 0px 0px\; font-family: &quot\;Segoe UI Historic&quot\;\, &quot\;Segoe UI&quot\;\, Helvetica\, Arial\, sans-serif\; color: rgb(5\, 5\, 5)\; font-size: 15px\;">The Neosho Arts Council presents Fine Art displays and sales\, along with a Scare Crow Contest\, sidewalk art contest and kid&#39\;s art. All of this with no gate fee! Come see us in Neosho!<br />\n<br />\n<span style="color: rgb(5\, 5\, 5)\; font-family: &quot\;Segoe UI Historic&quot\;\, &quot\;Segoe UI&quot\;\, Helvetica\, Arial\, sans-serif\; font-size: 15px\;">Download our Experience Neosho app for all the details!</span></div>\n
LOCATION:Historic Downtown Neosho Square
UID:e.2144.7899
SEQUENCE:3
DTSTAMP:20260423T224544Z
URL:https://neoshocc.com/events/details/neosho-fall-festival-7899
END:VEVENT

END:VCALENDAR
