BEGIN:VCALENDAR
VERSION:2.0
PRODID:-//ChamberMaster//Event Calendar 2.0//EN
METHOD:PUBLISH
X-PUBLISHED-TTL:P3D
REFRESH-INTERVAL:P3D
CALSCALE:GREGORIAN
BEGIN:VEVENT
DTSTART;VALUE=DATE:20231208
DTEND;VALUE=DATE:20231209
TRANSP:TRANSPARENT
X-MICROSOFT-CDO-ALLDAYEVENT:TRUE
SUMMARY:Neosho Edward Jones Financial Advisor Returns from Diversity\, Equity and Inclusion Conference
DESCRIPTION:Neosho Edward Jones financial advisor Returns from Diversity\, Equity and Inclusion Conference\n\n\n\n\n\nEdward Jones Financial Advisor Rachel E. Dobbs recently returned from the firm's Diversity\, Equity & Inclusion (DEI) Conference\, which recognizes and celebrates engagement and leadership in DEI efforts.\n\n\n\nFrom the approximately 52\,000 associates at Edward Jones\, 350 were invited to attend. They gained insights\, tools and resources to strengthen their DEI acumen through interactive panel discussions\, presentations\, workshops and networking sessions.\n\n\n\n"Our unwavering support for diversity\, equity and inclusion comes to life on many different fronts all across our organization\," said Jennifer Kingston\, the Edward Jones principal who leads DEI. "Every one of our attendees at this year's conference will have a different story to tell about their efforts to make a difference for people from diverse cultures and backgrounds. And all are making a positive impact for our clients and colleagues\, and in their communities."\n\n\n\nAttendees\, which included financial advisors\, branch team support members and home-office associates\, were invited based on efforts they've undertaken in one or more of three areas: continuous learning\, inclusive leadership and behaviors\, and diverse representation.\n\n\n\nThe conference was held Sep. 27-29\, 2023 in St. Louis.\n\n\n\nDobbs can be reached at 417-455-9320 or rachel.dobbs@edwardjones.com. You may also visit her website at www.edwardjones.com/rachel-dobbs.\n\n\n\nRachel Dobbs' office is located at 421 Fairground Rd. in Neosho\, Missouri.\n\n\n\nEdward Jones is a leading financial services firm in the U.S. and through its affiliate in Canada. The firm's nearly 19\,000 financial advisors serve more than 8 million clients with a total of $1.8 trillion in client assets under care at the end of June 2023. Edward Jones' purpose is to partner for positive impact to improve the lives of its clients and colleagues\, and together\, better our communities and society. Through the dedication of the firm's approximately 52\,000 associates and our branch presence in 68% of U.S. counties\, the firm is committed to helping more people achieve financially what is most important to them. The Edward Jones website is at edwardjones.com\, and its recruiting website is careers.edwardjones.com. Member SIPC.
X-ALT-DESC;FMTTYPE=text/html:<strong><span style="font-family:arial\,sans-serif"><span style="font-size:14.0pt">Neosho&nbsp\;Edward Jones&nbsp\;financial advisor Returns from Diversity\, Equity and Inclusion Conference</span></span></strong><br />\n<br />\n<br />\n<span style="font-family:arial\,sans-serif"><span style="font-size:10.5pt">Edward Jones&nbsp\;Financial Advisor&nbsp\;Rachel E. Dobbs&nbsp\;recently&nbsp\;returned from&nbsp\;the firm&#39\;s Diversity\, Equity &amp\; Inclusion (DEI) Conference\, which recognizes and celebrates engagement and leadership in DEI efforts.</span></span><br />\n<br />\n<span style="font-family:arial\,sans-serif"><span style="font-size:10.5pt">From the approximately 52\,000 associates at Edward Jones\, 350&nbsp\;were invited to attend. They&nbsp\;gained insights\, tools and resources to strengthen their DEI acumen through interactive panel discussions\, presentations\, workshops and networking sessions.<br />\n<br />\n&quot\;Our unwavering support for diversity\, equity and inclusion comes to life on many different fronts all across our organization\,&quot\; said Jennifer Kingston\, the Edward Jones principal who leads DEI. &quot\;Every one of our attendees at this year&#39\;s conference will have a different story to tell about their efforts to make a difference for people from diverse cultures and backgrounds. And all are making a positive impact for our clients and colleagues\, and in their communities.&quot\;<br />\n<br />\nAttendees\, which included financial advisors\, branch team support members and home-office associates\, were invited based on efforts they&#39\;ve undertaken in one or more of three areas: continuous learning\,&nbsp\;inclusive leadership and behaviors\,&nbsp\;and&nbsp\;diverse representation.<br />\n<br />\nThe conference was held&nbsp\;Sep. 27-29\, 2023 in St. Louis.</span></span><br />\n<br />\n<span style="font-family:arial\,sans-serif"><span style="font-size:10.5pt">Dobbs&nbsp\;can be reached at&nbsp\;417-455-9320 or <a href="mailto:rachel.dobbs@edwardjones.com">rachel.dobbs@edwardjones.com</a>. You may also visit&nbsp\;her&nbsp\;website at&nbsp\;<a href="http://www.edwardjones.com/rachel-dobbs">www.edwardjones.com/rachel-dobbs</a>.</span></span><br />\n<br />\n<span style="font-family:arial\,sans-serif"><span style="font-size:10.5pt">Rachel Dobbs&#39\; office is located at 421 Fairground Rd. in Neosho\, Missouri.</span></span><br />\n<br />\n<span style="font-family:arial\,sans-serif"><span style="font-size:10.5pt">Edward Jones is a leading financial services firm in the U.S. and through its affiliate in&nbsp\;Canada. The firm&#39\;s nearly 19\,000 financial advisors serve more than 8 million clients with a total of&nbsp\;$1.8 trillion&nbsp\;in client assets under care at the end of June 2023.&nbsp\;Edward Jones&#39\;&nbsp\;purpose is to partner for positive impact to improve the lives of its clients and colleagues\, and together\, better our communities and society. Through the dedication of the firm&#39\;s approximately 52\,000 associates and our branch presence in 68% of U.S. counties\, the firm is committed to helping more people achieve financially what is most important to them. The Edward Jones website is at edwardjones.com\, and its recruiting website is careers.edwardjones.com. Member SIPC.</span></span>
LOCATION:
UID:e.2144.11065
SEQUENCE:3
DTSTAMP:20260425T104734Z
URL:https://neoshocc.com/events/details/neosho-edward-jones-financial-advisor-returns-from-diversity-equity-and-inclusion-conference-12-08-2023-11065
END:VEVENT

END:VCALENDAR
