BEGIN:VCALENDAR
VERSION:2.0
PRODID:-//ChamberMaster//Event Calendar 2.0//EN
METHOD:PUBLISH
X-PUBLISHED-TTL:P3D
REFRESH-INTERVAL:P3D
CALSCALE:GREGORIAN
BEGIN:VEVENT
DTSTART:20231118T160000Z
DTEND:20231118T220000Z
X-MICROSOFT-CDO-ALLDAYEVENT:FALSE
SUMMARY:Neosho Dulcimer Day at The Old Cedar Mill Gallery
DESCRIPTION:Neosho Dulcimer Day\n\nJoin us for this "Come & Go" Event\n\nCome Experience and enjoy these four-state dulcimer players for 15 minutes\, 2 hours or all day.\n\n\n\nDave Boyt and other dulcimer players and teachers will be hosting a day of learning new techniques and ways of playing some traditional folk songs on the dulcimer
X-ALT-DESC;FMTTYPE=text/html:Neosho Dulcimer Day<br />\nJoin us for this &quot\;Come &amp\; Go&quot\; Event<br />\nCome Experience and enjoy these four-state dulcimer players for 15 minutes\, 2 hours or all day.<br />\n<br />\nDave Boyt and other dulcimer players and teachers will be hosting a day of learning new techniques and ways of playing some traditional folk songs on the dulcimer
LOCATION:The Old Cedar Mill Gallery 17346 Kentucky Road Neosho\, MO 417-389-0265
UID:e.2144.11039
SEQUENCE:3
DTSTAMP:20260425T121845Z
URL:https://neoshocc.com/events/details/neosho-dulcimer-day-at-the-old-cedar-mill-gallery-11039
END:VEVENT

END:VCALENDAR
