BEGIN:VCALENDAR
VERSION:2.0
PRODID:-//ChamberMaster//Event Calendar 2.0//EN
METHOD:PUBLISH
X-PUBLISHED-TTL:P3D
REFRESH-INTERVAL:P3D
CALSCALE:GREGORIAN
BEGIN:VEVENT
DTSTART:20251025T210000Z
DTEND:20251026T030000Z
X-MICROSOFT-CDO-ALLDAYEVENT:FALSE
SUMMARY:Neosho Downtown Creep and Crawl
DESCRIPTION:?? Downtown Neosho Creep & Crawl   October 25th! ??\n\nGet ready to creep\, crawl\, and have a ghoulishly good time in Downtown Neosho! Businesses all around the square are coming together for a night full of Halloween fun\, live music\, and spooky specials.\n\n??? Come dressed in your best costume   there'll be treats\, drinks\, and plenty of tricks along the way!\n\n?? Enjoy themed drinks\, food\, and entertainment at participating locations.\n\n?? Live music\, fun vibes\, and a whole lot of Halloween spirit from 4pm-10pm!\n\nGather your friends\, plan your route\, and join us for a night where downtown turns delightfully spooky!
X-ALT-DESC;FMTTYPE=text/html:<p>?? <strong>Downtown Neosho Creep &amp\; Crawl &ndash\; October 25th!</strong> ??</p>\n\n<p>Get ready to creep\, crawl\, and have a ghoulishly good time in <strong>Downtown Neosho</strong>! Businesses all around the square are coming together for a night full of Halloween fun\, live music\, and spooky specials.</p>\n\n<p>??? Come dressed in your best costume &mdash\; there&rsquo\;ll be treats\, drinks\, and plenty of tricks along the way!<br />\n?? Enjoy themed drinks\, food\, and entertainment at participating locations.<br />\n?? Live music\, fun vibes\, and a whole lot of Halloween spirit from 4pm-10pm!</p>\n\n<p>Gather your friends\, plan your route\, and join us for a night where downtown turns delightfully spooky!</p>\n
LOCATION:Historic Downtown Neosho
UID:e.2144.18545
SEQUENCE:3
DTSTAMP:20260424T030350Z
URL:https://neoshocc.com/events/details/neosho-downtown-creep-and-crawl-18545
END:VEVENT

END:VCALENDAR
