BEGIN:VCALENDAR
VERSION:2.0
PRODID:-//ChamberMaster//Event Calendar 2.0//EN
METHOD:PUBLISH
X-PUBLISHED-TTL:P3D
REFRESH-INTERVAL:P3D
CALSCALE:GREGORIAN
BEGIN:VEVENT
DTSTART:20260418T220000Z
DTEND:20260419T020000Z
X-MICROSOFT-CDO-ALLDAYEVENT:FALSE
SUMMARY:Neosho Christian School Benefit Banquet
DESCRIPTION:On April 18th\, we will host our annual Benefit Banquet\, which will include dinner\, entertainment\, and a silent auction All proceeds go to Neosho Christian School
X-ALT-DESC;FMTTYPE=text/html:On April 18th\, we will host our annual Benefit Banquet\, which will include dinner\, entertainment\, and a silent auction All proceeds go to Neosho Christian School
LOCATION:Neosho Municipal Auditorium
UID:e.2144.19221
SEQUENCE:3
DTSTAMP:20260420T045156Z
URL:https://neoshocc.com/events/details/neosho-christian-school-benefit-banquet-04-18-2026-19221
END:VEVENT

END:VCALENDAR
