BEGIN:VCALENDAR
VERSION:2.0
PRODID:-//ChamberMaster//Event Calendar 2.0//EN
METHOD:PUBLISH
X-PUBLISHED-TTL:P3D
REFRESH-INTERVAL:P3D
CALSCALE:GREGORIAN
BEGIN:VEVENT
DTSTART:20160503T180000Z
DTEND:20160503T230000Z
X-MICROSOFT-CDO-ALLDAYEVENT:FALSE
SUMMARY:Neosho Area Job Fair Spring 2016
DESCRIPTION:Over One-Thousand Jobs Available at Neosho Job Fair 2016\n\n                                      May 3rd at Neosho Civic: 1:00 to 6:00 p.m\n\n \n\n \n\nEmployers in the Neosho area have been polled and will be looking to fill over 1000 jobs! \n\n \n\nThe Neosho Area Chamber of Commerce (NACC) and the Neosho Area Business and Industrial Foundation (NABIFI) announce the NEOSHO AREA JOB FAIR 2016.\n\n \n\nOn May 3rd\, over 30 area businesses are coming together with the NACC and NABIFI for NEOSHO AREA JOB FAIR 2016 at The CIVIC (109 West Main Street) just off the Downtown Historic Square from 1:00-6:00 p.m. There is no charge to any job seeker to attend this job fair\, and meet with local employers.\n\n \n\n                Employers bringing jobs to the Neosho Area Jobs Fair 2016  include:  Access Family Care\, La-Z-Boy Midwest\, K & S Wire Products\, Neosho Freightliner\, Missouri Walnut\, Opal Foods\, Ozark Plastic Products\, Talbot Industries\, Carpenter's Union\, Twin Oaks Custom Cabinets\, Rembrandt Foods\, Community Support Services of Missouri\, Crowder College\, Expert Global Solutions\, Granby House\, Heartland Petfoods\, Hire Advantage\, Lowe's Home Centers\, Manpower\, Medicalodges Neosho\, Neosho R-5 School District\, Neosho-Newton County Library\, Onin Staffing\,  Penmac Staffing\, Preferred Family Healthcare\, Preferred Employment Services\, Protein Solutions\, Scholastic\, Workforce Investment Board of Southwest Missouri.\n\n \n\nNeosho Area Jobs Fair 2016 will be Neosho and Newton County's largest single employment fair. Over 1\,000 jobs from thirty area employers will be available to job seekers with no fee charged for this job fair by the Neosho Area Business and Industrial Foundation and the Neosho Area Chamber of Commerce.\n\n \n\n \n\nInformation:\n\n \n\nLauri Lyerla\, Neosho Area Chamber of Commerce: 417-451-1925\n\nMike Franks\, Neosho Area Business and Industrial Foundation\, Inc: 417-451-2945
X-ALT-DESC;FMTTYPE=text/html:<strong><em><span style="font-size: 18pt\;"><span style="font-family: calibri\;">Over One-Thousand Jobs Available at Neosho Job Fair 2016</span></span></em></strong><br />\n<span style="font-family: calibri\;">&nbsp\;&nbsp\;&nbsp\;&nbsp\;&nbsp\;&nbsp\;&nbsp\;&nbsp\;&nbsp\;&nbsp\;&nbsp\;&nbsp\;&nbsp\;&nbsp\;&nbsp\;&nbsp\;&nbsp\;&nbsp\;&nbsp\;&nbsp\;&nbsp\;&nbsp\;&nbsp\;&nbsp\;&nbsp\;&nbsp\;&nbsp\;&nbsp\;&nbsp\;&nbsp\;&nbsp\;&nbsp\;&nbsp\;&nbsp\;&nbsp\;&nbsp\;&nbsp\; <strong><span style="font-size: 12pt\;">May 3<sup>rd</sup> at Neosho Civic: 1:00 to 6:00 p.m</span></strong></span><br />\n&nbsp\;<br />\n&nbsp\;<br />\n<span style="font-size: medium\;"><span style="font-family: calibri\;">Employers in the Neosho area have been polled and will be looking to fill over 1000 jobs!&nbsp\;</span></span><br />\n&nbsp\;<br />\n<span style="font-size: medium\;"><span style="font-family: calibri\;">The Neosho Area Chamber of Commerce (NACC) and the Neosho Area Business and Industrial Foundation (NABIFI) announce the <strong><em>NEOSHO AREA JOB FAIR 2016.</em></strong></span></span><br />\n&nbsp\;<br />\n<span style="font-size: medium\;"><span style="font-family: calibri\;">On May 3<sup><span style="font-size: small\;">rd</span></sup>\, over 30 area businesses are coming together with the NACC and NABIFI for NEOSHO AREA JOB FAIR 2016 at The CIVIC (109 West Main Street) just off the Downtown Historic Square from 1:00-6:00 p.m. There is no charge to any job seeker to attend this job fair\, and meet with local employers.</span></span><br />\n&nbsp\;<br />\n<span style="font-size: medium\;"><span style="font-family: calibri\;">&nbsp\;&nbsp\;&nbsp\;&nbsp\;&nbsp\;&nbsp\;&nbsp\;&nbsp\;&nbsp\;&nbsp\;&nbsp\;&nbsp\;&nbsp\;&nbsp\;&nbsp\; Employers bringing jobs to the Neosho Area Jobs Fair 2016&nbsp\; include:&nbsp\; Access Family Care\, La-Z-Boy Midwest\, K &amp\; S Wire Products\, Neosho Freightliner\, Missouri Walnut\, Opal Foods\, Ozark Plastic Products\, Talbot Industries\, Carpenter&rsquo\;s Union\, Twin Oaks Custom Cabinets\, Rembrandt Foods\, Community Support Services of Missouri\, Crowder College\, Expert Global Solutions\, Granby House\, Heartland Petfoods\, Hire Advantage\, Lowe&rsquo\;s Home Centers\, Manpower\, Medicalodges Neosho\, Neosho R-5 School District\, Neosho-Newton County Library\, Onin Staffing\,&nbsp\; Penmac Staffing\, Preferred Family Healthcare\, Preferred Employment Services\, Protein Solutions\, Scholastic\, Workforce Investment Board of Southwest Missouri.</span></span><br />\n&nbsp\;<br />\n<span style="font-size: medium\;"><span style="font-family: calibri\;">Neosho Area Jobs Fair 2016 will be Neosho and Newton County&rsquo\;s largest single employment fair. Over 1\,000 jobs from thirty area employers will be available to job seekers with no fee charged for this job fair by the Neosho Area Business and Industrial Foundation and the Neosho Area Chamber of Commerce.</span></span><br />\n&nbsp\;<br />\n&nbsp\;<br />\n<span style="font-size: medium\;"><span style="font-family: calibri\;">Information:</span></span><br />\n&nbsp\;<br />\n<span style="font-size: medium\;"><span style="font-family: calibri\;">Lauri Lyerla\, Neosho Area Chamber of Commerce: 417-451-1925</span></span><br />\n<span style="font-size: medium\;"><span style="font-family: calibri\;">Mike Franks\, Neosho Area Business and Industrial Foundation\, Inc: 417-451-2945</span></span><br />\n&nbsp\;<br />\n<br />\n&nbsp\;<br />\n&nbsp\;
LOCATION:The Neosho Civic 109 E.Main St Neosho\, MO 64850
UID:e.2144.1648
SEQUENCE:3
DTSTAMP:20260421T084858Z
URL:https://neoshocc.com/events/details/neosho-area-job-fair-spring-2016-1648
END:VEVENT

END:VCALENDAR
