BEGIN:VCALENDAR
VERSION:2.0
PRODID:-//ChamberMaster//Event Calendar 2.0//EN
METHOD:PUBLISH
X-PUBLISHED-TTL:P3D
REFRESH-INTERVAL:P3D
CALSCALE:GREGORIAN
BEGIN:VEVENT
DTSTART:20141218T220000Z
DTEND:20141218T233000Z
X-MICROSOFT-CDO-ALLDAYEVENT:FALSE
SUMMARY:Neosho Area Chamber of Commerce - Christmas Open House
DESCRIPTION:Join us for this member appreciation event to offer thanks to our members and welcome in the new year!
X-ALT-DESC;FMTTYPE=text/html:Join us for this member appreciation event to offer thanks to our members and welcome in the new year!
LOCATION:Chamber Office 216 W. Spring Neosho\, MO
UID:e.2144.96
SEQUENCE:3
DTSTAMP:20260422T121147Z
URL:https://neoshocc.com/events/details/neosho-area-chamber-of-commerce-christmas-open-house-12-18-2014-96
END:VEVENT

END:VCALENDAR
