BEGIN:VCALENDAR
VERSION:2.0
PRODID:-//ChamberMaster//Event Calendar 2.0//EN
METHOD:PUBLISH
X-PUBLISHED-TTL:P3D
REFRESH-INTERVAL:P3D
CALSCALE:GREGORIAN
BEGIN:VEVENT
DTSTART:20260606T130000Z
DTEND:20260606T170000Z
X-MICROSOFT-CDO-ALLDAYEVENT:FALSE
SUMMARY:National Trails Day
DESCRIPTION:The first Saturday in June is National Trails Day\, a day of public events aimed at advocacy and trail service. Join us for a hike around the park boundary trail. Please wear sturdy footwear for this moderate boundary hike\, and bring a water bottle\, sun protection\, and insect repellent.
X-ALT-DESC;FMTTYPE=text/html:The first Saturday in June is National Trails Day\, a day of public events aimed at advocacy and trail service. Join us for a hike around the park boundary trail. Please wear sturdy footwear for this moderate boundary hike\, and bring a water bottle\, sun protection\, and insect repellent.
LOCATION:George Washington Carver NM 5646 Carver Rd. Diamond MO 64840
UID:e.2144.19803
SEQUENCE:3
DTSTAMP:20260422T112331Z
URL:https://neoshocc.com/events/details/national-trails-day-06-06-2026-19803
END:VEVENT

END:VCALENDAR
