BEGIN:VCALENDAR
VERSION:2.0
PRODID:-//ChamberMaster//Event Calendar 2.0//EN
METHOD:PUBLISH
X-PUBLISHED-TTL:P3D
REFRESH-INTERVAL:P3D
CALSCALE:GREGORIAN
BEGIN:VEVENT
DTSTART;VALUE=DATE:20190808
DTEND;VALUE=DATE:20190809
TRANSP:TRANSPARENT
X-MICROSOFT-CDO-ALLDAYEVENT:TRUE
SUMMARY:National Interview Day
DESCRIPTION:Express Employment Professionals can help you find the type of job that fits your needs and abilities\, and you'll never pay a fee for services and support. Express Employment matches applicants with the needs of our clients. They have a variety of jobs for you to choose from. Join them on National Interview Day to find your new career!
X-ALT-DESC;FMTTYPE=text/html:<span style="color: rgb(29\, 33\, 41)\; font-family: Helvetica\, Arial\, sans-serif\; font-size: 14px\; white-space: pre-wrap\;">Express Employment Professionals can help you find the type of job that fits your needs and abilities\, and you&#39\;ll never pay a fee for services and support. Express Employment matches applicants with the needs of our clients. They have a variety of jobs for you to choose from. Join them on National Interview Day to find your new career!</span>
LOCATION:Express Employment Professionals 1721 La Questa Dr Ste 1 Neosho\, Missouri 64850
UID:e.2144.2676
SEQUENCE:3
DTSTAMP:20260421T084455Z
URL:https://neoshocc.com/events/details/national-interview-day-2676
END:VEVENT

END:VCALENDAR
