BEGIN:VCALENDAR
VERSION:2.0
PRODID:-//ChamberMaster//Event Calendar 2.0//EN
METHOD:PUBLISH
X-PUBLISHED-TTL:P3D
REFRESH-INTERVAL:P3D
CALSCALE:GREGORIAN
BEGIN:VEVENT
DTSTART:20210901T140000Z
DTEND:20211020T230000Z
X-MICROSOFT-CDO-ALLDAYEVENT:FALSE
SUMMARY:Museum Vault Exhibit at the Longwell Museum
DESCRIPTION:The Museum Vault Exhibit will display artwork from Crowder College's permanent collection beginning September 1 and closing October 20 with a reception to be held September 9 from 5pm-7pm. The museum is free and open to public viewing Monday - Friday\, 9am - 6:30pm (closed on Saturday\, Sunday\, and for holidays). When on campus we recommend everyone to wear a mask (we will provide one if needed) and physically distance when possible.
X-ALT-DESC;FMTTYPE=text/html:The Museum Vault Exhibit will display artwork from Crowder College&#39\;s permanent collection beginning September 1 and closing October 20 with a reception to be held September 9 from 5pm-7pm. The museum is free and open to public viewing Monday - Friday\, 9am - 6:30pm (closed on Saturday\, Sunday\, and for holidays). When on campus we recommend everyone to wear a mask (we will provide one if needed) and physically distance when possible.
LOCATION:Longwell Museum Crowder College\, Elsie Plaster Community Center 601 Laclede Ave.\, Neosho\, MO 64850
UID:e.2144.7864
SEQUENCE:3
DTSTAMP:20260423T210731Z
URL:https://neoshocc.com/events/details/museum-vault-exhibit-at-the-longwell-museum-7864
END:VEVENT

END:VCALENDAR
