BEGIN:VCALENDAR
VERSION:2.0
PRODID:-//ChamberMaster//Event Calendar 2.0//EN
METHOD:PUBLISH
X-PUBLISHED-TTL:P3D
REFRESH-INTERVAL:P3D
CALSCALE:GREGORIAN
BEGIN:VEVENT
DTSTART:20151119T150000Z
DTEND:20151119T190000Z
X-MICROSOFT-CDO-ALLDAYEVENT:FALSE
SUMMARY:MSSU Volunteer and Resource Fair
DESCRIPTION:This fair will bring together area volunteer/non-profit organizations and to show students and the community what volunteer opportunities and resources are available to meet the needs of the community. This will also be the first opportunity for people to sign up for the Martin Luther King Day of Service scheduled for January 18\, 2016.
X-ALT-DESC;FMTTYPE=text/html:This fair will bring together area volunteer/non-profit organizations and to show students and the community what volunteer opportunities and resources are available to meet the needs of the community. This will also be the first opportunity for people to sign up for the Martin Luther King Day of Service scheduled for January 18\, 2016.
LOCATION:Missouri Southern State University Billingsly Student Center - 2nd Floor
UID:e.2144.1501
SEQUENCE:3
DTSTAMP:20260421T184058Z
URL:https://neoshocc.com/events/details/mssu-volunteer-and-resource-fair-11-19-2015-1501
END:VEVENT

END:VCALENDAR
