BEGIN:VCALENDAR
VERSION:2.0
PRODID:-//ChamberMaster//Event Calendar 2.0//EN
METHOD:PUBLISH
X-PUBLISHED-TTL:P3D
REFRESH-INTERVAL:P3D
CALSCALE:GREGORIAN
BEGIN:VEVENT
DTSTART:20260616T163000Z
DTEND:20260616T180000Z
X-MICROSOFT-CDO-ALLDAYEVENT:FALSE
SUMMARY:Monthly Membership Luncheon
DESCRIPTION:Join us for our June Monthly Membership Luncheon!\n\n\n\nProgram coming soon!
X-ALT-DESC;FMTTYPE=text/html:Join us for our June Monthly Membership Luncheon!<br />\n<br data-end="139" data-start="136" />\nProgram coming soon!
LOCATION:11:30 am-1:00 pm Crowder College | Farber Building | Wright Conference Room
UID:e.2144.19216
SEQUENCE:3
DTSTAMP:20260420T065206Z
URL:https://neoshocc.com/events/details/monthly-membership-luncheon-19216
END:VEVENT

END:VCALENDAR
