BEGIN:VCALENDAR
VERSION:2.0
PRODID:-//ChamberMaster//Event Calendar 2.0//EN
METHOD:PUBLISH
X-PUBLISHED-TTL:P3D
REFRESH-INTERVAL:P3D
CALSCALE:GREGORIAN
BEGIN:VEVENT
DTSTART;VALUE=DATE:20190819
DTEND;VALUE=DATE:20190821
TRANSP:TRANSPARENT
X-MICROSOFT-CDO-ALLDAYEVENT:TRUE
SUMMARY:MoJoe's 3 Year Anniversary Celebration
DESCRIPTION:Stop by MoJoe's Coffee for their 3 Year Anniversary Celebration! Special promotions on Monday\, August 19th and Tuesday\, August 20th including giveaways and drink specials. They will also be featuring new t-shirts to commemorate 3 years in Neosho!
X-ALT-DESC;FMTTYPE=text/html:<div style="text-align: center\;"><span style="font-size:16px\;"><span style="font-family:arial\;"><span style="white-space: pre-wrap\; background-color: rgb(255\, 255\, 255)\;">Stop by MoJoe&#39\;s Coffee for their 3 Year Anniversary Celebration! Special promotions on Monday\, August 19th and Tuesday\, August 20th including giveaways and drink specials. They will also be featuring new t-shirts to commemorate 3 years in Neosho!</span></span></span></div>\n
LOCATION:MoJoe's Coffee 929 S. Neosho Blvd. Neosho\, Missouri 64850
UID:e.2144.2670
SEQUENCE:3
DTSTAMP:20260421T085027Z
URL:https://neoshocc.com/events/details/mojoe-s-3-year-anniversary-celebration-2670
END:VEVENT

END:VCALENDAR
