BEGIN:VCALENDAR
VERSION:2.0
PRODID:-//ChamberMaster//Event Calendar 2.0//EN
METHOD:PUBLISH
X-PUBLISHED-TTL:P3D
REFRESH-INTERVAL:P3D
CALSCALE:GREGORIAN
BEGIN:VEVENT
DTSTART:20210629T140000Z
DTEND:20210629T190000Z
X-MICROSOFT-CDO-ALLDAYEVENT:FALSE
SUMMARY:Mitchell's Community Blood Drive
DESCRIPTION:Who doesn't love smores and grilling during summertime?!  Come join Mitchell's Drug Stores as we host a community blood drive in the Bloodmobile and enter to win a $1200 Grand Prize Package!\n\n\n\n\n\nEvery donor gets a free T-Shirt!!\n\n\n\nWe will also have smores and hot dogs to give away while supplies last starting at noon!\n\n\n\n\n\nWhere: Mitchell's on the Boulevard\n\nWhen: June 29th 9:00am - 2:00 pm\n\n \nClick the link below to make an appointment with three easy steps or walk-ins are accepted:\n\nhttps://donate.cbco.org/.../schedules/drive_schedule/127978
X-ALT-DESC;FMTTYPE=text/html:<div>\n<div>Who doesn&#39\;t love smores and grilling during summertime?!&nbsp\; Come join Mitchell&#39\;s Drug Stores as we host a community blood drive in the Bloodmobile and enter to win a $1200 Grand Prize Package!</div>\n</div>\n\n<div>\n<div><br />\nEvery donor gets a free T-Shirt!!</div>\n\n<div><br />\nWe will also have smores and hot dogs to give away while supplies last starting at noon!</div>\n</div>\n\n<div>\n<div><br />\nWhere: Mitchell&#39\;s on the Boulevard</div>\n\n<div>When: June 29th 9:00am - 2:00 pm<br />\n&nbsp\;\n<div>Click the link below to make an appointment with three easy steps or walk-ins are accepted:</div>\n\n<div><span style="font-family:inherit"><a class="oajrlxb2 g5ia77u1 qu0x051f esr5mh6w e9989ue4 r7d6kgcz rq0escxv nhd2j8a9 nc684nl6 p7hjln8o kvgmc6g5 cxmmr5t8 oygrvhab hcukyx3x jb3vyjys rz4wbd8a qt6c0cv9 a8nywdso i1ao9s8h esuyzwwr f1sip0of lzcic4wl py34i1dx gpro0wi8" href="https://l.facebook.com/l.php?u=https%3A%2F%2Fdonate.cbco.org%2Fdonor%2Fschedules%2Fdrive_schedule%2F127978%3Ffbclid%3DIwAR3Ua471uFOty5WeB9EKEUSEWBP3Xl900nR7_WdRaCn_sCxk5LQzHfhajTQ&amp\;h=AT2UU3NnJSwOqxWRlFcxeHZNVeCqXMIqq-O5ni_v1r-NCAclbNqEpGmByYmrso060inXA8XxamuNJ2ne4j2rEeoO_-9ag2CnavsFiYMSCPHiTBhmLu1wGXZnIjD1NEa0wQ&amp\;__tn__=-UK-R&amp\;c[0]=AT23-rBVSCxQYhGxmAhmIVu5JVMG1HSZcj0MGImzbNht775g1N5NjWSdq70LY7D4AKtH9Z4zo-hEv7jrVVqN6mpdo33IzH09F9XkC4BhuDLpMLNMdHehPQ4C_kHOa1bi4ZTiBG8WV7nm-TosXUqg543oSjNOlKC6T5bxrI-pPrD5glMfbsc7e2s4Xu7OM0TOuD5XNXi-" rel="nofollow" style="cursor: pointer\; outline: none\; list-style: none\; border-width: 0px\; border-style: initial\; border-color: initial\; padding: 0px\; margin: 0px\; touch-action: manipulation\; background-color: transparent\; text-align: inherit\; display: inline\; -webkit-tap-highlight-color: transparent\; box-sizing: border-box\; font-family: inherit\;" tabindex="0" target="_blank">https://donate.cbco.org/.../schedules/drive_schedule/127978</a></span></div>\n</div>\n</div>\n
LOCATION:Mitchell's on the Boulevard 719 S Neosho Blvd Neosho\, MO 64850
UID:e.2144.7675
SEQUENCE:3
DTSTAMP:20260423T143910Z
URL:https://neoshocc.com/events/details/mitchell-s-community-blood-drive-7675
END:VEVENT

END:VCALENDAR
